BEGIN:VCALENDAR
VERSION:2.0
PRODID:-//92.205.172.162//NONSGML kigkonsult.se iCalcreator 2.20//
CALSCALE:GREGORIAN
METHOD:PUBLISH
X-WR-TIMEZONE:Europe/Berlin
BEGIN:VEVENT
UID:event383@Judo Mittelfranken
DTSTAMP:20260421T124819Z
CATEGORIES:Jugendfreizeit
DESCRIPTION:Jugendbildungsmaßnahme 2026 für die männliche und weibliche Jug
 end bis 19 Jahre\nKategorie: Jugendfreizeit\nICS-Link: https://www.judo-mi
 ttelfranken.de/HP/index.php?option=com_jem&view=event&id=383:jugendbildung
 smassnahme-2026-fuer-die-maennliche-und-weibliche-jugend-bis-19-jahre\n
DTSTART;TZID=Europe/Berlin:20260530T150000
DTEND;TZID=Europe/Berlin:20260606T100000
LOCATION:Inzell\,Germany
SUMMARY:Jugendbildungsmaßnahme 2026 für die männliche und weibliche Jugend 
 bis 19 Jahre
URL:https://www.judo-mittelfranken.de/HP/index.php?option=com_jem&view=even
 t&id=383:jugendbildungsmassnahme-2026-fuer-die-maennliche-und-weibliche-ju
 gend-bis-19-jahre
END:VEVENT
BEGIN:VEVENT
UID:event384@Judo Mittelfranken
DTSTAMP:20260421T124819Z
CATEGORIES:Jugendfreizeit
DESCRIPTION:Jugendbildungsmaßnahme 2026 für die männliche und weibliche Jug
 end bis 19 Jahre\nKategorie: Jugendfreizeit\nICS-Link: https://www.judo-mi
 ttelfranken.de/HP/index.php?option=com_jem&view=event&id=384:jugendbildung
 smassnahme-2026-fuer-die-maennliche-und-weibliche-jugend-bis-19-jahre\n
DTSTART;TZID=Europe/Berlin:20261031T150000
DTEND;TZID=Europe/Berlin:20261107T100000
LOCATION:Inzell\,Germany
SUMMARY:Jugendbildungsmaßnahme 2026 für die männliche und weibliche Jugend 
 bis 19 Jahre
URL:https://www.judo-mittelfranken.de/HP/index.php?option=com_jem&view=even
 t&id=384:jugendbildungsmassnahme-2026-fuer-die-maennliche-und-weibliche-ju
 gend-bis-19-jahre
END:VEVENT
END:VCALENDAR
